BEGIN:VCALENDAR
VERSION:2.0
PRODID:-//Epicenter NYC - ECPv6.15.20//NONSGML v1.0//EN
CALSCALE:GREGORIAN
METHOD:PUBLISH
X-ORIGINAL-URL:https://epicenter-nyc.com
X-WR-CALDESC:Events for Epicenter NYC
REFRESH-INTERVAL;VALUE=DURATION:PT1H
X-Robots-Tag:noindex
X-PUBLISHED-TTL:PT1H
BEGIN:VTIMEZONE
TZID:America/New_York
BEGIN:DAYLIGHT
TZOFFSETFROM:-0500
TZOFFSETTO:-0400
TZNAME:EDT
DTSTART:20230312T070000
END:DAYLIGHT
BEGIN:STANDARD
TZOFFSETFROM:-0400
TZOFFSETTO:-0500
TZNAME:EST
DTSTART:20231105T060000
END:STANDARD
BEGIN:DAYLIGHT
TZOFFSETFROM:-0500
TZOFFSETTO:-0400
TZNAME:EDT
DTSTART:20240310T070000
END:DAYLIGHT
BEGIN:STANDARD
TZOFFSETFROM:-0400
TZOFFSETTO:-0500
TZNAME:EST
DTSTART:20241103T060000
END:STANDARD
BEGIN:DAYLIGHT
TZOFFSETFROM:-0500
TZOFFSETTO:-0400
TZNAME:EDT
DTSTART:20250309T070000
END:DAYLIGHT
BEGIN:STANDARD
TZOFFSETFROM:-0400
TZOFFSETTO:-0500
TZNAME:EST
DTSTART:20251102T060000
END:STANDARD
END:VTIMEZONE
BEGIN:VEVENT
DTSTART;TZID=America/New_York:20240822T160000
DTEND;TZID=America/New_York:20240822T160000
DTSTAMP:20260425T111757
CREATED:20240812T153759Z
LAST-MODIFIED:20240822T192108Z
UID:17673-1724342400-1724342400@epicenter-nyc.com
SUMMARY:Backpack Giveaway Presented by: CM Tiffany Cabán\, Rep. Alexandria Ocasio-Cortez & AM Jessica González-Rojas
DESCRIPTION:Team Epicenter will be at several back-to-school events in East Elmhurst\, connecting neighborhoods to important Covid-19 and flu-related resources. We’ll also have free crayons to give away!
URL:https://epicenter-nyc.com/event/backpack-giveaway-tiffany-caban-alexandria-ocasio-cortez/
LOCATION:Gorman Playground\, 13268 85th Street\, Queens\, New York\, 11369\, United States
END:VEVENT
BEGIN:VEVENT
DTSTART;TZID=America/New_York:20240825T130000
DTEND;TZID=America/New_York:20240825T130000
DTSTAMP:20260425T111757
CREATED:20240812T154334Z
LAST-MODIFIED:20240822T192336Z
UID:17684-1724590800-1724590800@epicenter-nyc.com
SUMMARY:Back-to-School Hosted by First Baptist Church East Elmhurst
DESCRIPTION:Team Epicenter will be at several back-to-school events in East Elmhurst\, connecting neighborhoods to important Covid-19 and flu-related resources. We’ll also have free crayons to give away!
URL:https://epicenter-nyc.com/event/back-to-school-first-baptist-church-east-elmhurst/
LOCATION:First Baptist Church East Elmhurst\, 100-10 Astoria Blvd\, East Elmhurst\, New York\, 11369\, United States
END:VEVENT
BEGIN:VEVENT
DTSTART;TZID=America/New_York:20240831T120000
DTEND;TZID=America/New_York:20240831T120000
DTSTAMP:20260425T111757
CREATED:20240812T154848Z
LAST-MODIFIED:20240822T192502Z
UID:17691-1725105600-1725105600@epicenter-nyc.com
SUMMARY:Back-to-Schoool Hosted by East Elmhurst Corona Civic Association
DESCRIPTION:Team Epicenter will be at several back-to-school events in East Elmhurst\, connecting neighborhoods to important Covid-19 and flu-related resources. We’ll also have free crayons to give away!
URL:https://epicenter-nyc.com/event/back-to-schoool-by-east-elmhurst-corona-civic-association/
LOCATION:Helen Marshall Playground\, 100 St & 24th Ave\, East Elmhurst\, New York\, 11369\, United States
END:VEVENT
END:VCALENDAR