BEGIN:VCALENDAR
VERSION:2.0
PRODID:-//Epicenter NYC - ECPv6.15.20//NONSGML v1.0//EN
CALSCALE:GREGORIAN
METHOD:PUBLISH
X-WR-CALNAME:Epicenter NYC
X-ORIGINAL-URL:https://epicenter-nyc.com
X-WR-CALDESC:Events for Epicenter NYC
REFRESH-INTERVAL;VALUE=DURATION:PT1H
X-Robots-Tag:noindex
X-PUBLISHED-TTL:PT1H
BEGIN:VTIMEZONE
TZID:America/New_York
BEGIN:DAYLIGHT
TZOFFSETFROM:-0500
TZOFFSETTO:-0400
TZNAME:EDT
DTSTART:20230312T070000
END:DAYLIGHT
BEGIN:STANDARD
TZOFFSETFROM:-0400
TZOFFSETTO:-0500
TZNAME:EST
DTSTART:20231105T060000
END:STANDARD
BEGIN:DAYLIGHT
TZOFFSETFROM:-0500
TZOFFSETTO:-0400
TZNAME:EDT
DTSTART:20240310T070000
END:DAYLIGHT
BEGIN:STANDARD
TZOFFSETFROM:-0400
TZOFFSETTO:-0500
TZNAME:EST
DTSTART:20241103T060000
END:STANDARD
BEGIN:DAYLIGHT
TZOFFSETFROM:-0500
TZOFFSETTO:-0400
TZNAME:EDT
DTSTART:20250309T070000
END:DAYLIGHT
BEGIN:STANDARD
TZOFFSETFROM:-0400
TZOFFSETTO:-0500
TZNAME:EST
DTSTART:20251102T060000
END:STANDARD
END:VTIMEZONE
BEGIN:VEVENT
DTSTART;TZID=America/New_York:20240502T163000
DTEND;TZID=America/New_York:20240502T190000
DTSTAMP:20260425T071227
CREATED:20240417T215724Z
LAST-MODIFIED:20240419T173638Z
UID:14757-1714667400-1714676400@epicenter-nyc.com
SUMMARY:How to Prepare for Your Child’s Annual Review IEP Meeting
DESCRIPTION:Learn tips and strategies to get ready for your child’s IEP meeting at our event on May 2nd at 4:30 PM!\n\n\nThe annual review is the time to question if your child has genuinely met their goals and advocate for their chance to meet challenging objectives to prepare for further education\, employment\, and independent living. \nFeaturing Jenn Choi\, a special education advocate specializing in helping families with the IEP (Individualized Education Program) process in New York City public schools. Take advantage of this opportunity to connect with other parents and gain insights from experienced professionals. \nWe’re offering a live stream for those who can’t attend the in-person session. You can watch the discussion live on YouTube or Facebook. \n\n\n\n\n\n\n\nRegister on Eventbrite
URL:https://epicenter-nyc.com/event/how-to-prepare-for-your-childs-annual-review-iep-meeting-2/
LOCATION:NY
ATTACH;FMTTYPE=image/jpeg:https://epicenter-nyc.com/wp-content/uploads/2024/04/36c868cbd219dd52a26613455b0cea7f-0Rxhba.tmp_.jpg
END:VEVENT
BEGIN:VEVENT
DTSTART;TZID=America/New_York:20240520T173000
DTEND;TZID=America/New_York:20240520T190000
DTSTAMP:20260425T071227
CREATED:20240513T201158Z
LAST-MODIFIED:20240516T134316Z
UID:15404-1716226200-1716231600@epicenter-nyc.com
SUMMARY:Epicenter's tour of the Public Design Commission's Archives
DESCRIPTION:Join us for a guided tour of the Public Design Commission to learn about power brokers shaping our city’s landscape!\n\n\nEpicenter-NYC invites you to a members-only archives tour of the Public Design Commission for the City of New York (253 Broadway). Since 1898\, this agency\, formerly known as the New York City Art Commission\, has reviewed the design of all permanent works of architecture\, landscape architecture\, and art proposed on or over City-owned property. \nWith such a broad mandate\, the PDC–made up of private citizens and government appointees alike–has weighed in on iconic NYC places and spaces such as the marble lions of New York City Public Library and of course\, all monuments\, sculptures and other artworks throughout the parks championed by Robert Moses in his time as Commissioner of Parks for the City of New York. Join Epicenter-NYC on this Power Broker-themed tour of the archives\, led by PDC Senior Archivist Julianna Monjeau. \nEpicenter strives to make our offerings diverse\, accessible and reflective of the communities we serve. Please let us know if you cannot pay membership fees and still want to join\, or if you need accommodation in some other way.
URL:https://epicenter-nyc.com/event/epicenters-tour-of-the-public-design-commissions-archives/
LOCATION:253 Broadway New York\, NY 10007
ATTACH;FMTTYPE=image/jpeg:https://epicenter-nyc.com/wp-content/uploads/2024/05/e2b21b8326b949f26a842176498c0dd0-bIeiV5.tmp_.jpg
END:VEVENT
END:VCALENDAR