BEGIN:VCALENDAR
VERSION:2.0
PRODID:-//Epicenter NYC - ECPv6.15.20//NONSGML v1.0//EN
CALSCALE:GREGORIAN
METHOD:PUBLISH
X-ORIGINAL-URL:https://epicenter-nyc.com
X-WR-CALDESC:Events for Epicenter NYC
REFRESH-INTERVAL;VALUE=DURATION:PT1H
X-Robots-Tag:noindex
X-PUBLISHED-TTL:PT1H
BEGIN:VTIMEZONE
TZID:America/New_York
BEGIN:DAYLIGHT
TZOFFSETFROM:-0500
TZOFFSETTO:-0400
TZNAME:EDT
DTSTART:20210314T070000
END:DAYLIGHT
BEGIN:STANDARD
TZOFFSETFROM:-0400
TZOFFSETTO:-0500
TZNAME:EST
DTSTART:20211107T060000
END:STANDARD
BEGIN:DAYLIGHT
TZOFFSETFROM:-0500
TZOFFSETTO:-0400
TZNAME:EDT
DTSTART:20220313T070000
END:DAYLIGHT
BEGIN:STANDARD
TZOFFSETFROM:-0400
TZOFFSETTO:-0500
TZNAME:EST
DTSTART:20221106T060000
END:STANDARD
BEGIN:DAYLIGHT
TZOFFSETFROM:-0500
TZOFFSETTO:-0400
TZNAME:EDT
DTSTART:20230312T070000
END:DAYLIGHT
BEGIN:STANDARD
TZOFFSETFROM:-0400
TZOFFSETTO:-0500
TZNAME:EST
DTSTART:20231105T060000
END:STANDARD
END:VTIMEZONE
BEGIN:VEVENT
DTSTART;TZID=America/New_York:20220915T183000
DTEND;TZID=America/New_York:20220923T190000
DTSTAMP:20260421T082505
CREATED:20230126T000721Z
LAST-MODIFIED:20230126T000722Z
UID:7952-1663266600-1663959600@epicenter-nyc.com
SUMMARY:MoMA’s Indian Independent Film Series: Making Waves
DESCRIPTION:We are offering complimentary tickets to several screenings from MoMA’s Making Waves: A New Generation of Indian Independent Filmmakers film series. \n\n\n\nThe films\, which are from 2010 to the present\, feature a wide range of work from across India in 10 languages with filmmakers including Achal Mishra\, Pushpendra Singh\, Amit Dutta\, Payal Kapadia\, Anamika Haksar\, Arun Karthick\, Rima Das and more. \n\n\n\nWe are offering Epicenter members tickets to the following screenings. Several include appearances from the filmmakers: \n\n\n\nThu\, Sept. 15\, at 6:30 p.m: The Village House (Gamak Ghar) by Achal Mishra \n\n\n\nFri\, Sept. 16\, at 7 p.m: Dhuin by Achal Mishra  \n\n\n\nWed\, Sept. 21\, at 6:30 p.m: The Honour Keeper (Lajwanti) by Pushpendra Singh \n\n\n\nThu\, Sept. 22\, at 7 p.m: The Shepherdess and the Seven Songs (Laila aur satt geet) by Pushpendra Singh \n\n\n\nFri\, Sept. 23\, at 7 p.m: Nainsukh | Drawn From Dreams by Amit Dutta
URL:https://epicenter-nyc.com/event/momas-indian-independent-film-series-making-waves/
LOCATION:Museum of Modern Art\, 11 W 53rd Street\, New York\, New York\, 10019\, United States
ATTACH;FMTTYPE=image/png:https://epicenter-nyc.com/wp-content/uploads/2023/01/319aba7c-2f67-4164-ba5a-6311e06e075e.png
END:VEVENT
BEGIN:VEVENT
DTSTART;TZID=America/New_York:20220918T114500
DTEND;TZID=America/New_York:20220918T114500
DTSTAMP:20260421T082505
CREATED:20221014T204419Z
LAST-MODIFIED:20230126T001010Z
UID:6578-1663501500-1663501500@epicenter-nyc.com
SUMMARY:Central Park Foraging
DESCRIPTION:Come on a foraging tour of Central Park with us\, hosted by the illustrious “Wildman” Steve Brill.The 4-hour end-of-summer foraging extravaganza will explore the famous park in search of the many renewable wild foods available in early autumn\, like black walnuts\, wild spinach\, and if you’re lucky\, hen-of-the-woods\, aka maitake mushrooms. Brill\, who has been hosting foraging tours since the 80s\, will teach you about the many common\, overlooked\, renewable wild edible and medicinal plants and mushrooms that\, he says\, people often destroy as “weeds.” For details on how to prepare for the tour\, please visit Brill’s website.
URL:https://epicenter-nyc.com/event/central-park-foraging/
LOCATION:NY
CATEGORIES:Tour
ATTACH;FMTTYPE=image/png:https://epicenter-nyc.com/wp-content/uploads/2022/10/https___cdn.evbuc_.com_images_350667209_541310786657_1_original.png
END:VEVENT
END:VCALENDAR